BEGIN:VCALENDAR
VERSION:2.0
PRODID:-//The Other Side - ECPv6.6.3//NONSGML v1.0//EN
CALSCALE:GREGORIAN
METHOD:PUBLISH
X-WR-CALNAME:The Other Side
X-ORIGINAL-URL:https://theothersideutica.org
X-WR-CALDESC:Events for The Other Side
REFRESH-INTERVAL;VALUE=DURATION:PT1H
X-Robots-Tag:noindex
X-PUBLISHED-TTL:PT1H
BEGIN:VTIMEZONE
TZID:America/New_York
BEGIN:DAYLIGHT
TZOFFSETFROM:-0500
TZOFFSETTO:-0400
TZNAME:EDT
DTSTART:20260308T070000
END:DAYLIGHT
BEGIN:STANDARD
TZOFFSETFROM:-0400
TZOFFSETTO:-0500
TZNAME:EST
DTSTART:20261101T060000
END:STANDARD
END:VTIMEZONE
BEGIN:VEVENT
DTSTART;TZID=America/New_York:20260422T180000
DTEND;TZID=America/New_York:20260422T193000
DTSTAMP:20260422T082521
CREATED:20260406T104337Z
LAST-MODIFIED:20260408T085027Z
UID:10003755-1776880800-1776886200@theothersideutica.org
SUMMARY:OFF-SITE Event: debut of People's Theatre Table Reads - stay tuned!
DESCRIPTION:This is a budding\, community-driven group in which the written text is artistically interpreted and brought to life through live actors. These texts include\, but are not limited to: playscripts\, poetry\, and narrative fiction and non-fiction. The hope is to gather an ever-widening and changing circle of diverse\, local writers\, directors\, readers and viewers who are interested in bringing the written word to life. More soon!
URL:https://theothersideutica.org/event/the-peoples-theatre-table-reads
LOCATION:The Other Side\, 2011 Genesee St\, Utica\, New York\, 13501
CATEGORIES:Community Event
ATTACH;FMTTYPE=image/jpeg:https://theothersideutica.org/wp-content/uploads/2026/04/image_85384371.jpg
END:VEVENT
BEGIN:VEVENT
DTSTART;TZID=America/New_York:20260423T120000
DTEND;TZID=America/New_York:20260423T140000
DTSTAMP:20260422T082521
CREATED:20260307T114114Z
LAST-MODIFIED:20260311T103256Z
UID:10003747-1776945600-1776952800@theothersideutica.org
SUMMARY:Phantasmagoria - Gallery Hours (click for all upcoming dates)
DESCRIPTION:George Hendrickson \nPaintings / Objects \nApril 3 – April 25\, 2026 \nOpening Reception: Friday\, April 3\, 5-7pm \nArtist Talk: Saturday\, April 25\, 1pm \nGallery Hours from 12-2pm: \nSaturday\, April 4 \nThursday\, April 9 \nSaturday\, April 11 \nThursday\, April 16 \nSaturday\, April 18 \nThursday\, April 23 \nSaturday\, April 25
URL:https://theothersideutica.org/event/phantasmagoria-gallery-hours-click-for-all-upcoming-dates/2026-04-23
LOCATION:The Other Side\, 2011 Genesee St\, Utica\, New York\, 13501
CATEGORIES:Art Gallery
ATTACH;FMTTYPE=image/jpeg:https://theothersideutica.org/wp-content/uploads/2026/03/2026-04-Art_Gallery_square.jpg
END:VEVENT
BEGIN:VEVENT
DTSTART;TZID=America/New_York:20260425T120000
DTEND;TZID=America/New_York:20260425T140000
DTSTAMP:20260422T082521
CREATED:20260307T114114Z
LAST-MODIFIED:20260311T103256Z
UID:10003748-1777118400-1777125600@theothersideutica.org
SUMMARY:Phantasmagoria - Gallery Hours (click for all upcoming dates)
DESCRIPTION:George Hendrickson \nPaintings / Objects \nApril 3 – April 25\, 2026 \nOpening Reception: Friday\, April 3\, 5-7pm \nArtist Talk: Saturday\, April 25\, 1pm \nGallery Hours from 12-2pm: \nSaturday\, April 4 \nThursday\, April 9 \nSaturday\, April 11 \nThursday\, April 16 \nSaturday\, April 18 \nThursday\, April 23 \nSaturday\, April 25
URL:https://theothersideutica.org/event/phantasmagoria-gallery-hours-click-for-all-upcoming-dates/2026-04-25
LOCATION:The Other Side\, 2011 Genesee St\, Utica\, New York\, 13501
CATEGORIES:Art Gallery
ATTACH;FMTTYPE=image/jpeg:https://theothersideutica.org/wp-content/uploads/2026/03/2026-04-Art_Gallery_square.jpg
END:VEVENT
BEGIN:VEVENT
DTSTART;TZID=America/New_York:20260425T130000
DTEND;TZID=America/New_York:20260425T143000
DTSTAMP:20260422T082521
CREATED:20260307T113448Z
LAST-MODIFIED:20260307T113448Z
UID:10003741-1777122000-1777127400@theothersideutica.org
SUMMARY:Phantasmagoria - Artist Talk
DESCRIPTION:George Hendrickson \nPaintings / Objects \nApril 3 – April 25\, 2026 \nOpening Reception: Friday\, April 3\, 5-7pm \nArtist Talk: Saturday\, April 25\, 1pm \nGallery Hours from 12-2pm: \nSaturday\, April 4 \nThursday\, April 9 \nSaturday\, April 11 \nThursday\, April 16 \nSaturday\, April 18 \nThursday\, April 23 \nSaturday\, April 25
URL:https://theothersideutica.org/event/phantasmagoria-artist-talk
LOCATION:The Other Side\, 2011 Genesee St\, Utica\, New York\, 13501
CATEGORIES:Art Gallery
ATTACH;FMTTYPE=image/jpeg:https://theothersideutica.org/wp-content/uploads/2026/03/2026-04-Art_Gallery_square.jpg
END:VEVENT
BEGIN:VEVENT
DTSTART;TZID=America/New_York:20260426T080000
DTEND;TZID=America/New_York:20260426T170000
DTSTAMP:20260422T082521
CREATED:20251005T121206Z
LAST-MODIFIED:20251011T123714Z
UID:10003660-1777190400-1777222800@theothersideutica.org
SUMMARY:Art Gallery Install Day
DESCRIPTION:
URL:https://theothersideutica.org/event/art-gallery-install-day/2026-04-26
LOCATION:The Other Side\, 2011 Genesee St\, Utica\, New York\, 13501
CATEGORIES:Art Gallery,Private Event
END:VEVENT
BEGIN:VEVENT
DTSTART;TZID=America/New_York:20260428T180000
DTEND;TZID=America/New_York:20260428T200000
DTSTAMP:20260422T082521
CREATED:20260416T082451Z
LAST-MODIFIED:20260417T084203Z
UID:10003872-1777399200-1777406400@theothersideutica.org
SUMMARY:The People's Classroom
DESCRIPTION:Why Are We Made To Hate China?: \nThe Peoples’ Classroom returns to The Other Side in Utica with a special two-part presentation on an often completely misunderstood yet crucial nation in the world today\, modern China. \nWe will examine the historical context as to how modern China was formed\, major events\, the reasons behind why the nation is framed the way it is by both the US government and the corporate media today and finally a look into what the future holds in this new Cold War. \nPart 1 will go through the formation of communist China and cover the time period of Mao Zedong. \nPart 2 will go through the time period of Deng Xiaoping and a thorough examination of the new Cold War today. \nIt is a presentation designed to challenge your preconceived notions and represent that all important working class perspective.
URL:https://theothersideutica.org/event/the-peoples-classroom-4
LOCATION:The Other Side\, 2011 Genesee St\, Utica\, New York\, 13501
CATEGORIES:Community Event
ATTACH;FMTTYPE=image/jpeg:https://theothersideutica.org/wp-content/uploads/2026/04/2026-04-28_TPC-square.jpg
END:VEVENT
END:VCALENDAR