BEGIN:VCALENDAR
VERSION:2.0
PRODID:-//The Other Side - ECPv6.6.3//NONSGML v1.0//EN
CALSCALE:GREGORIAN
METHOD:PUBLISH
X-ORIGINAL-URL:https://theothersideutica.org
X-WR-CALDESC:Events for The Other Side
REFRESH-INTERVAL;VALUE=DURATION:PT1H
X-Robots-Tag:noindex
X-PUBLISHED-TTL:PT1H
BEGIN:VTIMEZONE
TZID:America/New_York
BEGIN:DAYLIGHT
TZOFFSETFROM:-0500
TZOFFSETTO:-0400
TZNAME:EDT
DTSTART:20250309T070000
END:DAYLIGHT
BEGIN:STANDARD
TZOFFSETFROM:-0400
TZOFFSETTO:-0500
TZNAME:EST
DTSTART:20251102T060000
END:STANDARD
END:VTIMEZONE
BEGIN:VEVENT
DTSTART;TZID=America/New_York:20251102T070000
DTEND;TZID=America/New_York:20251102T210000
DTSTAMP:20260422T050014
CREATED:20251005T121206Z
LAST-MODIFIED:20251011T123714Z
UID:10003516-1762066800-1762117200@theothersideutica.org
SUMMARY:Art Gallery Install Day
DESCRIPTION:
URL:https://theothersideutica.org/event/art-gallery-install-day/2025-11-02
LOCATION:The Other Side\, 2011 Genesee St\, Utica\, New York\, 13501
CATEGORIES:Art Gallery,Private Event
END:VEVENT
BEGIN:VEVENT
DTSTART;TZID=America/New_York:20251105T180000
DTEND;TZID=America/New_York:20251105T193000
DTSTAMP:20260422T050014
CREATED:20251104T013120Z
LAST-MODIFIED:20251104T013149Z
UID:10003684-1762365600-1762371000@theothersideutica.org
SUMMARY:Herbal Study Group
DESCRIPTION:Masks not necessary.
URL:https://theothersideutica.org/event/herbal-study-group-3
LOCATION:The Other Side\, 2011 Genesee St\, Utica\, New York\, 13501
CATEGORIES:Community Event
ATTACH;FMTTYPE=image/jpeg:https://theothersideutica.org/wp-content/uploads/2025/01/01-Herbal_Study_Group.jpg
END:VEVENT
BEGIN:VEVENT
DTSTART;TZID=America/New_York:20251107T170000
DTEND;TZID=America/New_York:20251107T190000
DTSTAMP:20260422T050014
CREATED:20251011T121830Z
LAST-MODIFIED:20251011T121830Z
UID:10003586-1762534800-1762542000@theothersideutica.org
SUMMARY:Drawn In Glass - Gallery Opening
DESCRIPTION:Tina Betz – Glass Sculptures \nNovember 7 to November 29 \nOpening Reception: Friday November 7 –5-7pm \nArtist Talk: Saturday\, November 29 — 1pm \nGallery Hours: \nThursdays and Saturdays 12-2pm
URL:https://theothersideutica.org/event/drawn-in-glass-gallery-opening
LOCATION:The Other Side\, 2011 Genesee St\, Utica\, New York\, 13501
CATEGORIES:Art Gallery
ATTACH;FMTTYPE=image/jpeg:https://theothersideutica.org/wp-content/uploads/2025/10/Tina-Betz-title-edited.jpg
END:VEVENT
BEGIN:VEVENT
DTSTART;TZID=America/New_York:20251108T120000
DTEND;TZID=America/New_York:20251108T140000
DTSTAMP:20260422T050014
CREATED:20251011T122511Z
LAST-MODIFIED:20251104T011731Z
UID:10003588-1762603200-1762610400@theothersideutica.org
SUMMARY:Drawn In Glass - Gallery Hours (click for all dates)
DESCRIPTION:Tina Betz – Glass Sculptures \nNovember 7 to November 29 \nOpening Reception: Friday November 7 –5-7pm \nArtist Talk: Saturday\, November 29 — 1pm \nGallery Hours are Thursdays and Saturdays 12-2pm: \nSaturday\, November 8 \nThursday\, November 13 \nSaturday\, November 15 \nThursday\, November 20 \nSaturday\, November 22 \nSaturday\, November 29
URL:https://theothersideutica.org/event/drawn-in-glass-gallery-hours-click-for-all-dates/2025-11-08
LOCATION:The Other Side\, 2011 Genesee St\, Utica\, New York\, 13501
CATEGORIES:Art Gallery
ATTACH;FMTTYPE=image/jpeg:https://theothersideutica.org/wp-content/uploads/2025/10/Tina-Betz-title-edited.jpg
END:VEVENT
BEGIN:VEVENT
DTSTART;TZID=America/New_York:20251109T080000
DTEND;TZID=America/New_York:20251109T200000
DTSTAMP:20260422T050014
CREATED:20251021T091946Z
LAST-MODIFIED:20251021T092145Z
UID:10003663-1762675200-1762718400@theothersideutica.org
SUMMARY:Private Event - Q Center
DESCRIPTION:
URL:https://theothersideutica.org/event/private-event-q-center
LOCATION:The Other Side\, 2011 Genesee St\, Utica\, New York\, 13501
CATEGORIES:Community Event,Private Event
END:VEVENT
BEGIN:VEVENT
DTSTART;TZID=America/New_York:20251113T120000
DTEND;TZID=America/New_York:20251113T140000
DTSTAMP:20260422T050014
CREATED:20251011T122511Z
LAST-MODIFIED:20251104T011731Z
UID:10003589-1763035200-1763042400@theothersideutica.org
SUMMARY:Drawn In Glass - Gallery Hours (click for all dates)
DESCRIPTION:Tina Betz – Glass Sculptures \nNovember 7 to November 29 \nOpening Reception: Friday November 7 –5-7pm \nArtist Talk: Saturday\, November 29 — 1pm \nGallery Hours are Thursdays and Saturdays 12-2pm: \nSaturday\, November 8 \nThursday\, November 13 \nSaturday\, November 15 \nThursday\, November 20 \nSaturday\, November 22 \nSaturday\, November 29
URL:https://theothersideutica.org/event/drawn-in-glass-gallery-hours-click-for-all-dates/2025-11-13
LOCATION:The Other Side\, 2011 Genesee St\, Utica\, New York\, 13501
CATEGORIES:Art Gallery
ATTACH;FMTTYPE=image/jpeg:https://theothersideutica.org/wp-content/uploads/2025/10/Tina-Betz-title-edited.jpg
END:VEVENT
BEGIN:VEVENT
DTSTART;TZID=America/New_York:20251113T190000
DTEND;TZID=America/New_York:20251113T203000
DTSTAMP:20260422T050014
CREATED:20250828T102329Z
LAST-MODIFIED:20251018T022506Z
UID:10003502-1763060400-1763065800@theothersideutica.org
SUMMARY:Release Reading for Alphabet Noise by Tom Townsley
DESCRIPTION:“Exuberant\, amphibian and phantasmagoric!”\nThe sixth full length collection of poems from Thomas Townsley is an imaginative tour de force. “Do you seek le mot au jus?” “Don’t read too much into the falling apple blossoms.”  “They say a man who breaks forms is often broken by them.” “The instructions were never quite right    never quite clear…” “(The narrator raises an eyebrow and offers the reader a spoon.)” “But enough mimesis.” The poems in Alphabet Noise push language to a breaking point\, beyond which it is possible to glimpse…what exactly? “The radio hisses.” “The reader is reminded that ‘some slippage is inevitable.’” \nPraise for Alphabet Noise: \nAlphabet Noise is an immersive experience\, a croquembouche of crunchy predicates and polysemous jouissance. A wang dang doodle. A dynamo of “mad sleeping alphabets” galvanized by the noise of construction. Sparks flying. The blinding light of a welder creating a chassis of vocable transport. This is the noise of the poet as maker\, the poet as innovator and explorer. The language is exuberant\, amphibian and phantasmagoric. Intellect is endowed with puckish autonomy\, a verbal acrobatics and jubilant excess which functions as an antidote against the toxins of those who would try to control and undermine the true merit of words\, which is yet to be fully realized. This is the factory. This is the place where things get made. Hyper-objects. Philosophies. Le paradoxe de Mallarmé. “In the lit Palace of Nothing there are only voices.” \n-John Olson\nAuthor of numerous books of poetry and prose poetry and recipient of The Stranger’s 2004 Literature Genius Award. His seventh novel\, Unfinished World\, is forthcoming from Quale Press \nOpen to the public \nDonations welcome. Books will be available for sale. \nThis reading will be live streamed on YouTube @theothersideutica. \nOrder the book here: \nhttps://doublymad.org/Alphabet-Noise
URL:https://theothersideutica.org/event/release-reading-for-alphabet-noise-by-tom-townsley
LOCATION:The Other Side\, 2011 Genesee St\, Utica\, New York\, 13501
CATEGORIES:Community Event
ATTACH;FMTTYPE=image/jpeg:https://theothersideutica.org/wp-content/uploads/2025/08/Alphabet-Noise-cover-pic-2-edited.jpg
END:VEVENT
BEGIN:VEVENT
DTSTART;TZID=America/New_York:20251115T120000
DTEND;TZID=America/New_York:20251115T140000
DTSTAMP:20260422T050014
CREATED:20251011T122511Z
LAST-MODIFIED:20251104T011731Z
UID:10003590-1763208000-1763215200@theothersideutica.org
SUMMARY:Drawn In Glass - Gallery Hours (click for all dates)
DESCRIPTION:Tina Betz – Glass Sculptures \nNovember 7 to November 29 \nOpening Reception: Friday November 7 –5-7pm \nArtist Talk: Saturday\, November 29 — 1pm \nGallery Hours are Thursdays and Saturdays 12-2pm: \nSaturday\, November 8 \nThursday\, November 13 \nSaturday\, November 15 \nThursday\, November 20 \nSaturday\, November 22 \nSaturday\, November 29
URL:https://theothersideutica.org/event/drawn-in-glass-gallery-hours-click-for-all-dates/2025-11-15
LOCATION:The Other Side\, 2011 Genesee St\, Utica\, New York\, 13501
CATEGORIES:Art Gallery
ATTACH;FMTTYPE=image/jpeg:https://theothersideutica.org/wp-content/uploads/2025/10/Tina-Betz-title-edited.jpg
END:VEVENT
BEGIN:VEVENT
DTSTART;TZID=America/New_York:20251115T193000
DTEND;TZID=America/New_York:20251115T220000
DTSTAMP:20260422T050014
CREATED:20250824T142241Z
LAST-MODIFIED:20251030T094100Z
UID:10003498-1763235000-1763244000@theothersideutica.org
SUMMARY:Ron Wilkins - Jazz at The Other Side
DESCRIPTION:Ron Wilkins – Trombonist and Singer \n\nFeaturing: \nBill Dobbins – piano \nPeter Chwazik – bass \nMike Melito – drums \nMike Dubaniewicz – sax \nTickets are $20 or $10 for students with student ID \nTo reserve\, call 315-735-4825 or email kodomenico@verizon.net \nTHANK YOU TO OUR SPONSORS: \nFlavoredLayers – sponsor for 2025-2026 headliners – https://www.flavoredlayers.com/ \nBank of Utica \nGreen Onion Pub \nand Three Anonymous Donors \n  \nNew York City based musician Ron Wilkins has been performing on tenor and bass trombones\, euphonium\, tuba\, bass trumpet and vocals for over forty years. He has performed at the highest levels touring around the world with his own groups as well as premiere artists. Ron is a member of the Birdland Big Band\, Dizzy Gillespie All Star Big Band\, and runs his own New York City big band alongside trombonist Rebecca Patterson which features their writing and includes some of New York City’s premiere musicians. \nRon has performed with many top-tier artists and musicians\,  including Ray Charles\, Aretha Franklin\, Rosemary Clooney\, Lena Horne\, Bob Hope\, Jerry Lewis\, Dizzy Gilespie\, Johnny Mathis\, Jimmy Heath\, Jon Faddis\, Eddie Daniels\, Randy Brecker\, Wycliffe Gordon\, The Count Basie Orchestra\, Mingus Big Band\,  The 8-bit Big Band\, The Temptations\, The Four Tops\, The Vanguard Jazz Orchestra\, Jimmy Heath Big Band\, Arturo O’ Farrill and his Afro-Latin Jazz Orchestra\, The Dizzy Gillespie All-Star Big Band and Afro-Cuban Band\, Chris Potter Big Band\, Ed Palermo Big Band\, Affinity Brass Quintet\, Uptown Brass Quintet\, Livio Almeida Brazilian Dectet\, Memo Acevedo’s Building Bridges Band\, San Antonio Brass\, Capitol of Texas Brass Quintet\, San Antonio Symphony and Festival Orchestra\, Austin Symphony and Austin Pops\, Mid-Texas Symphony\, Victoria Symphony\, Temple Symphony\, and the Flint Symphony where he was twice guest artist for their summer pops concert series in summer 2003. \nHe also has extensive Broadway experience and most recently was bass trombonist on the Broadway revival of  Gypsy starring 6X Tony Award winning actress Audra McDonald. Ron was also trombonist for the Broadway revival of  Funny Girl ( starring Lea Michele )\, and  subbing on the Broadway shows Wicked\, Motown\, Shuffle Along\, Frozen\, and the Radio City Christmas Spectacular. He has also played with The Big Apple Circus\, Ringling Brothers\, and numerous touring Broadway shows including  West Side Story\, The Lion King\, Showboat\, The Producers\, Kinky Boots\, Book Of Mormon\, and others. \nHe was a featured artist at the 2025 American Trombone Workshop in Ft. Meyer\, VA\, performing the world premiere on The Roncerto ( written for bass trombone\, voice\, piano\, and concert band ) by Ethan Gurwitz ( https://www.ethangurwitz.com ). In 2018\, Ron performed at the Bass Trombone Open in Rotterdam\, NL\, and in 2002 was a guest artist at the International Trombone Festival held at the University of North Texas. \nRon also has an extensive background as an educator. He has performed as a guest artist at from the elementary to university levels\, jazz festivals\, and has maintained his own private studio for decades. He has held positions at several colleges including the University of Texas at San Antonio\, University of Incarnate Ward\, Texas State University\, Texas Lutheran University\, Northwest Vista College\, St. Mary’s University\, teaching low brass\, jazz studies\, and vocals. \nRon has four cds as a leader\, including the The Roncerto ( 2024 )\, Trombocalist (2021)\, A Tribute To The Masters (2000)\, and The Bundee Brothers Bone Band”(2005) with former Ringling Brothers lead trombonist\, Bill Gibson. Ron currently maintains his own private teaching studio and remains a sought after clinician. He is a veteran of the USAF Band of the West at Lackland AFB in San Antonio. \nRon is an S. E. Shires trombone artist and plays Greg Black Mouthpieces.
URL:https://theothersideutica.org/event/ron-wilkins-jazz-at-the-other-side
LOCATION:The Other Side\, 2011 Genesee St\, Utica\, New York\, 13501
CATEGORIES:Jazz Shows
ATTACH;FMTTYPE=image/jpeg:https://theothersideutica.org/wp-content/uploads/2025/08/DSC00250-edited.jpeg
END:VEVENT
BEGIN:VEVENT
DTSTART;TZID=America/New_York:20251117T180000
DTEND;TZID=America/New_York:20251117T193000
DTSTAMP:20260422T050014
CREATED:20251104T010303Z
LAST-MODIFIED:20251109T105221Z
UID:10003680-1763402400-1763407800@theothersideutica.org
SUMMARY:The People's Classroom
DESCRIPTION:THE US CIVIL WAR & THE FAILURES OF RECONSTRUCTION: The Peoples’ Classroom returns to The Other Side in Utica with an critical presentation on the US Civil War and the ramifications for the failures of the Reconstruction Era with a keen focus on the all important connections to today. We will take a deep look into the root causes of the Civil War\, the reasons why Reconstruction failed and an analysis of the monumental impacts of that failure which reverberate in our nation today. It is a presentation that is designed to help you better grapple with the present by more deeply understanding the past. And as always\, we will be examining everything through the lens of the working class and oppressed people’s perspective. It’s one you do not want to miss.\n\nFree to Attend – Donations Welcome!
URL:https://theothersideutica.org/event/the-peoples-classroom-2
LOCATION:The Other Side\, 2011 Genesee St\, Utica\, New York\, 13501
CATEGORIES:Community Event
ATTACH;FMTTYPE=image/jpeg:https://theothersideutica.org/wp-content/uploads/2025/08/The-Peoples-Classroom-Flyer-Modern-Presidency-Part-5-edited.jpg
END:VEVENT
BEGIN:VEVENT
DTSTART;TZID=America/New_York:20251119T193000
DTEND;TZID=America/New_York:20251119T210000
DTSTAMP:20260422T050014
CREATED:20251104T010729Z
LAST-MODIFIED:20251104T010729Z
UID:10003681-1763580600-1763586000@theothersideutica.org
SUMMARY:Medicine Hunters - Hamilton at The Other Side
DESCRIPTION:Dr. Francisco Hernandez was the physician sent by Spain in 1570 to lead the first explicitly scientific expedition. Following his trail in Mexico this summer\, Prof. Cooley uncovered how Indigenous knowledge and European ambition collided in the search for cures. In a preview of her upcoming book\, she will tell us this story of drug discovery as a tale of wonder\, extraction\, and possibility. This lecture invites you to see the early Americas as a living laboratory where the dream of universal remedies was born. \nwith Mackenzie Cooley – Associate Professor of History Director of Medieval and Renaissance Studies at Hamilton College \nFree and Open to the Public — Donations Welcome!
URL:https://theothersideutica.org/event/medicine-hunters-hamilton-at-the-other-side
LOCATION:The Other Side\, 2011 Genesee St\, Utica\, New York\, 13501
CATEGORIES:Hamilton College Lecture Series
ATTACH;FMTTYPE=image/jpeg:https://theothersideutica.org/wp-content/uploads/2025/11/2025-11-19_Hamilton-Thumbnail.jpg
END:VEVENT
BEGIN:VEVENT
DTSTART;TZID=America/New_York:20251120T120000
DTEND;TZID=America/New_York:20251120T140000
DTSTAMP:20260422T050015
CREATED:20251011T122511Z
LAST-MODIFIED:20251104T011731Z
UID:10003591-1763640000-1763647200@theothersideutica.org
SUMMARY:Drawn In Glass - Gallery Hours (click for all dates)
DESCRIPTION:Tina Betz – Glass Sculptures \nNovember 7 to November 29 \nOpening Reception: Friday November 7 –5-7pm \nArtist Talk: Saturday\, November 29 — 1pm \nGallery Hours are Thursdays and Saturdays 12-2pm: \nSaturday\, November 8 \nThursday\, November 13 \nSaturday\, November 15 \nThursday\, November 20 \nSaturday\, November 22 \nSaturday\, November 29
URL:https://theothersideutica.org/event/drawn-in-glass-gallery-hours-click-for-all-dates/2025-11-20
LOCATION:The Other Side\, 2011 Genesee St\, Utica\, New York\, 13501
CATEGORIES:Art Gallery
ATTACH;FMTTYPE=image/jpeg:https://theothersideutica.org/wp-content/uploads/2025/10/Tina-Betz-title-edited.jpg
END:VEVENT
BEGIN:VEVENT
DTSTART;TZID=America/New_York:20251122T080000
DTEND;TZID=America/New_York:20251122T170000
DTSTAMP:20260422T050015
CREATED:20251104T010827Z
LAST-MODIFIED:20251104T010827Z
UID:10003682-1763798400-1763830800@theothersideutica.org
SUMMARY:Cheese Man
DESCRIPTION:
URL:https://theothersideutica.org/event/cheese-man/2025-11-22
LOCATION:The Other Side\, 2011 Genesee St\, Utica\, New York\, 13501
CATEGORIES:Community Event
ATTACH;FMTTYPE=image/jpeg:https://theothersideutica.org/wp-content/uploads/2024/11/IMG_4274-square00.jpg
END:VEVENT
BEGIN:VEVENT
DTSTART;TZID=America/New_York:20251123T080000
DTEND;TZID=America/New_York:20251123T140000
DTSTAMP:20260422T050015
CREATED:20251104T010827Z
LAST-MODIFIED:20251104T010827Z
UID:10003683-1763884800-1763906400@theothersideutica.org
SUMMARY:Cheese Man
DESCRIPTION:
URL:https://theothersideutica.org/event/cheese-man/2025-11-23
LOCATION:The Other Side\, 2011 Genesee St\, Utica\, New York\, 13501
CATEGORIES:Community Event
ATTACH;FMTTYPE=image/jpeg:https://theothersideutica.org/wp-content/uploads/2024/11/IMG_4274-square00.jpg
END:VEVENT
BEGIN:VEVENT
DTSTART;TZID=America/New_York:20251129T120000
DTEND;TZID=America/New_York:20251129T140000
DTSTAMP:20260422T050015
CREATED:20251011T122511Z
LAST-MODIFIED:20251104T011731Z
UID:10003594-1764417600-1764424800@theothersideutica.org
SUMMARY:Drawn In Glass - Gallery Hours (click for all dates)
DESCRIPTION:Tina Betz – Glass Sculptures \nNovember 7 to November 29 \nOpening Reception: Friday November 7 –5-7pm \nArtist Talk: Saturday\, November 29 — 1pm \nGallery Hours are Thursdays and Saturdays 12-2pm: \nSaturday\, November 8 \nThursday\, November 13 \nSaturday\, November 15 \nThursday\, November 20 \nSaturday\, November 22 \nSaturday\, November 29
URL:https://theothersideutica.org/event/drawn-in-glass-gallery-hours-click-for-all-dates/2025-11-29
LOCATION:The Other Side\, 2011 Genesee St\, Utica\, New York\, 13501
CATEGORIES:Art Gallery
ATTACH;FMTTYPE=image/jpeg:https://theothersideutica.org/wp-content/uploads/2025/10/Tina-Betz-title-edited.jpg
END:VEVENT
BEGIN:VEVENT
DTSTART;TZID=America/New_York:20251129T130000
DTEND;TZID=America/New_York:20251129T150000
DTSTAMP:20260422T050015
CREATED:20251011T122117Z
LAST-MODIFIED:20251011T122410Z
UID:10003587-1764421200-1764428400@theothersideutica.org
SUMMARY:Drawn In Glass - Artist Talk
DESCRIPTION:Tina Betz – Glass Sculptures \nNovember 7 to November 29 \nOpening Reception: Friday November 7 –5-7pm \nArtist Talk: Saturday\, November 29 — 1pm \nGallery Hours: \nThursdays and Saturdays 12-2pm
URL:https://theothersideutica.org/event/drawn-in-glass-artist-talk
LOCATION:The Other Side\, 2011 Genesee St\, Utica\, New York\, 13501
CATEGORIES:Art Gallery
ATTACH;FMTTYPE=image/jpeg:https://theothersideutica.org/wp-content/uploads/2025/10/Tina-Betz-title-edited.jpg
END:VEVENT
BEGIN:VEVENT
DTSTART;TZID=America/New_York:20251130T080000
DTEND;TZID=America/New_York:20251130T170000
DTSTAMP:20260422T050015
CREATED:20251005T121206Z
LAST-MODIFIED:20251011T123714Z
UID:10003655-1764489600-1764522000@theothersideutica.org
SUMMARY:Art Gallery Install Day
DESCRIPTION:
URL:https://theothersideutica.org/event/art-gallery-install-day/2025-11-30
LOCATION:The Other Side\, 2011 Genesee St\, Utica\, New York\, 13501
CATEGORIES:Art Gallery,Private Event
END:VEVENT
END:VCALENDAR