BEGIN:VCALENDAR
VERSION:2.0
PRODID:-//The Other Side - ECPv6.6.3//NONSGML v1.0//EN
CALSCALE:GREGORIAN
METHOD:PUBLISH
X-ORIGINAL-URL:https://theothersideutica.org
X-WR-CALDESC:Events for The Other Side
REFRESH-INTERVAL;VALUE=DURATION:PT1H
X-Robots-Tag:noindex
X-PUBLISHED-TTL:PT1H
BEGIN:VTIMEZONE
TZID:America/New_York
BEGIN:DAYLIGHT
TZOFFSETFROM:-0500
TZOFFSETTO:-0400
TZNAME:EDT
DTSTART:20250309T070000
END:DAYLIGHT
BEGIN:STANDARD
TZOFFSETFROM:-0400
TZOFFSETTO:-0500
TZNAME:EST
DTSTART:20251102T060000
END:STANDARD
END:VTIMEZONE
BEGIN:VEVENT
DTSTART;TZID=America/New_York:20250901T183000
DTEND;TZID=America/New_York:20250901T210000
DTSTAMP:20260422T132131
CREATED:20250706T112418Z
LAST-MODIFIED:20250706T112817Z
UID:10003094-1756751400-1756760400@theothersideutica.org
SUMMARY:Outcast International Show Preparation
DESCRIPTION:
URL:https://theothersideutica.org/event/outcast-international-show-preparation/2025-09-01
LOCATION:The Other Side\, 2011 Genesee St\, Utica\, New York\, 13501
CATEGORIES:Community Event,Private Event
END:VEVENT
BEGIN:VEVENT
DTSTART;VALUE=DATE:20250903
DTEND;VALUE=DATE:20250904
DTSTAMP:20260422T132131
CREATED:20250809T132952Z
LAST-MODIFIED:20250809T132952Z
UID:10003485-1756857600-1756943999@theothersideutica.org
SUMMARY:Private Event
DESCRIPTION:
URL:https://theothersideutica.org/event/private-event-27
LOCATION:The Other Side\, 2011 Genesee St\, Utica\, New York\, 13501
CATEGORIES:Private Event
END:VEVENT
BEGIN:VEVENT
DTSTART;TZID=America/New_York:20250904T183000
DTEND;TZID=America/New_York:20250904T210000
DTSTAMP:20260422T132131
CREATED:20250706T112418Z
LAST-MODIFIED:20250706T112817Z
UID:10003095-1757010600-1757019600@theothersideutica.org
SUMMARY:Outcast International Show Preparation
DESCRIPTION:
URL:https://theothersideutica.org/event/outcast-international-show-preparation/2025-09-04
LOCATION:The Other Side\, 2011 Genesee St\, Utica\, New York\, 13501
CATEGORIES:Community Event,Private Event
END:VEVENT
BEGIN:VEVENT
DTSTART;TZID=America/New_York:20250908T183000
DTEND;TZID=America/New_York:20250908T210000
DTSTAMP:20260422T132131
CREATED:20250706T112418Z
LAST-MODIFIED:20250706T112817Z
UID:10003096-1757356200-1757365200@theothersideutica.org
SUMMARY:Outcast International Show Preparation
DESCRIPTION:
URL:https://theothersideutica.org/event/outcast-international-show-preparation/2025-09-08
LOCATION:The Other Side\, 2011 Genesee St\, Utica\, New York\, 13501
CATEGORIES:Community Event,Private Event
END:VEVENT
BEGIN:VEVENT
DTSTART;TZID=America/New_York:20250910T183000
DTEND;TZID=America/New_York:20250910T210000
DTSTAMP:20260422T132131
CREATED:20250706T112418Z
LAST-MODIFIED:20250706T112817Z
UID:10003097-1757529000-1757538000@theothersideutica.org
SUMMARY:Outcast International Show Preparation
DESCRIPTION:
URL:https://theothersideutica.org/event/outcast-international-show-preparation/2025-09-10
LOCATION:The Other Side\, 2011 Genesee St\, Utica\, New York\, 13501
CATEGORIES:Community Event,Private Event
END:VEVENT
BEGIN:VEVENT
DTSTART;TZID=America/New_York:20250912T170000
DTEND;TZID=America/New_York:20250912T190000
DTSTAMP:20260422T132131
CREATED:20250819T012132Z
LAST-MODIFIED:20250819T012354Z
UID:10003486-1757696400-1757703600@theothersideutica.org
SUMMARY:Correspondence- Opening Reception
DESCRIPTION:September 12 – October 4 \nOpening Reception\, Friday September 12\, 5-7pm \nArtist Talk: Saturday\, October 4\, 1pm \nGallery Hours: Thursdays and Saturdays 12-2pm
URL:https://theothersideutica.org/event/correspondence-opening-reception
LOCATION:The Other Side\, 2011 Genesee St\, Utica\, New York\, 13501
CATEGORIES:Art Gallery
ATTACH;FMTTYPE=image/jpeg:https://theothersideutica.org/wp-content/uploads/2025/08/Mona_Gina-posterpic-edited.jpg
END:VEVENT
BEGIN:VEVENT
DTSTART;TZID=America/New_York:20250913T120000
DTEND;TZID=America/New_York:20250913T140000
DTSTAMP:20260422T132131
CREATED:20250819T012324Z
LAST-MODIFIED:20250819T012324Z
UID:10003488-1757764800-1757772000@theothersideutica.org
SUMMARY:Correspondence - Gallery Hours
DESCRIPTION:September 12 – October 4 \nOpening Reception\, Friday September 12\, 5-7pm \nArtist Talk: Saturday\, October 4\, 1pm \nGallery Hours: Thursdays and Saturdays 12-2pm
URL:https://theothersideutica.org/event/correspondence-gallery-hours/2025-09-13
LOCATION:The Other Side\, 2011 Genesee St\, Utica\, New York\, 13501
CATEGORIES:Art Gallery
ATTACH;FMTTYPE=image/jpeg:https://theothersideutica.org/wp-content/uploads/2025/08/Mona_Gina-posterpic-edited.jpg
END:VEVENT
BEGIN:VEVENT
DTSTART;TZID=America/New_York:20250915T183000
DTEND;TZID=America/New_York:20250915T210000
DTSTAMP:20260422T132131
CREATED:20250706T112418Z
LAST-MODIFIED:20250706T112817Z
UID:10003098-1757961000-1757970000@theothersideutica.org
SUMMARY:Outcast International Show Preparation
DESCRIPTION:
URL:https://theothersideutica.org/event/outcast-international-show-preparation/2025-09-15
LOCATION:The Other Side\, 2011 Genesee St\, Utica\, New York\, 13501
CATEGORIES:Community Event,Private Event
END:VEVENT
BEGIN:VEVENT
DTSTART;TZID=America/New_York:20250917T193000
DTEND;TZID=America/New_York:20250917T210000
DTSTAMP:20260422T132131
CREATED:20250824T135603Z
LAST-MODIFIED:20250824T135603Z
UID:10003497-1758137400-1758142800@theothersideutica.org
SUMMARY:More Than You Can Know - Hamilton at The Other Side
DESCRIPTION:While cleaning out the attic of her family home\, Canadian-American writer Naomi\nGuttman discovers bundles of love letters written during her parents’ transatlantic\ncourtship. With those letters\, plus home-movie footage\, photographs\, and surprisingly\ncandid interviews about love\, fidelity\, and gender roles\, Guttman weaves a poignant tale\nof a sixty-four-year marriage between two doctors whose love is tested by time and\ncircumstance. Inspired by the films of Alan Berliner\, Judith Helfand\, and Sarah Polley\,\nGuttman’s first film reveals a rare and intimate glimpse into the arc of a complex\nrelationship \n  \nPart of the Carl. A Rubio Hamilton at The Other Side Series
URL:https://theothersideutica.org/event/more-than-you-can-know-hamilton-at-the-other-side
LOCATION:The Other Side\, 2011 Genesee St\, Utica\, New York\, 13501
CATEGORIES:Hamilton College Lecture Series
ATTACH;FMTTYPE=image/jpeg:https://theothersideutica.org/wp-content/uploads/2025/08/2025-09-17_Hamilton_College_01-00-scaled.jpg
END:VEVENT
BEGIN:VEVENT
DTSTART;TZID=America/New_York:20250918T120000
DTEND;TZID=America/New_York:20250918T140000
DTSTAMP:20260422T132131
CREATED:20250819T012324Z
LAST-MODIFIED:20250819T012324Z
UID:10003489-1758196800-1758204000@theothersideutica.org
SUMMARY:Correspondence - Gallery Hours
DESCRIPTION:September 12 – October 4 \nOpening Reception\, Friday September 12\, 5-7pm \nArtist Talk: Saturday\, October 4\, 1pm \nGallery Hours: Thursdays and Saturdays 12-2pm
URL:https://theothersideutica.org/event/correspondence-gallery-hours/2025-09-18
LOCATION:The Other Side\, 2011 Genesee St\, Utica\, New York\, 13501
CATEGORIES:Art Gallery
ATTACH;FMTTYPE=image/jpeg:https://theothersideutica.org/wp-content/uploads/2025/08/Mona_Gina-posterpic-edited.jpg
END:VEVENT
BEGIN:VEVENT
DTSTART;TZID=America/New_York:20250918T180000
DTEND;TZID=America/New_York:20250918T193000
DTSTAMP:20260422T132131
CREATED:20250828T102159Z
LAST-MODIFIED:20250828T102159Z
UID:10003501-1758218400-1758223800@theothersideutica.org
SUMMARY:Community is the Heart of Healing
DESCRIPTION:The prolonged uncertainty these last several years has negatively influenced the mind-body health of many individuals and communities. The Building Connections Collective is raising awareness of collectivism for enriching healing practices and better overall health and wellbeing. This approach not only acknowledges individual experiences but also highlights the importance of community and shared cultural connections in the healing process. \nCollective healing practices have ancient roots\, and the Building Connections Collective is raising awareness that health and healing is a collective responsibility and involves actionable steps for supporting the health of a community. \nIf you are interested in this topic\, consider learning more about the Building Connections Collective on Sept 18th\, 6pm – 7:30pm at 2011 Genesee St\, Utica NY 13501 and help bring awareness about the benefits of collective healing.\n\nQuestions reach out to Deborah Faust at DFaust@mhanys.or 518-414-2899
URL:https://theothersideutica.org/event/community-is-the-heart-of-healing
LOCATION:The Other Side\, 2011 Genesee St\, Utica\, New York\, 13501
CATEGORIES:Community Event
ATTACH;FMTTYPE=image/jpeg:https://theothersideutica.org/wp-content/uploads/2025/08/BC-Flyer-The-Peoples-Classroom-1-edited.jpg
END:VEVENT
BEGIN:VEVENT
DTSTART;TZID=America/New_York:20250919T183000
DTEND;TZID=America/New_York:20250919T210000
DTSTAMP:20260422T132131
CREATED:20250706T112418Z
LAST-MODIFIED:20250706T112817Z
UID:10003099-1758306600-1758315600@theothersideutica.org
SUMMARY:Outcast International Show Preparation
DESCRIPTION:
URL:https://theothersideutica.org/event/outcast-international-show-preparation/2025-09-19
LOCATION:The Other Side\, 2011 Genesee St\, Utica\, New York\, 13501
CATEGORIES:Community Event,Private Event
END:VEVENT
BEGIN:VEVENT
DTSTART;TZID=America/New_York:20250920T120000
DTEND;TZID=America/New_York:20250920T140000
DTSTAMP:20260422T132131
CREATED:20250819T012324Z
LAST-MODIFIED:20250819T012324Z
UID:10003490-1758369600-1758376800@theothersideutica.org
SUMMARY:Correspondence - Gallery Hours
DESCRIPTION:September 12 – October 4 \nOpening Reception\, Friday September 12\, 5-7pm \nArtist Talk: Saturday\, October 4\, 1pm \nGallery Hours: Thursdays and Saturdays 12-2pm
URL:https://theothersideutica.org/event/correspondence-gallery-hours/2025-09-20
LOCATION:The Other Side\, 2011 Genesee St\, Utica\, New York\, 13501
CATEGORIES:Art Gallery
ATTACH;FMTTYPE=image/jpeg:https://theothersideutica.org/wp-content/uploads/2025/08/Mona_Gina-posterpic-edited.jpg
END:VEVENT
BEGIN:VEVENT
DTSTART;TZID=America/New_York:20250922T183000
DTEND;TZID=America/New_York:20250922T210000
DTSTAMP:20260422T132131
CREATED:20250706T112418Z
LAST-MODIFIED:20250706T112817Z
UID:10003100-1758565800-1758574800@theothersideutica.org
SUMMARY:Outcast International Show Preparation
DESCRIPTION:
URL:https://theothersideutica.org/event/outcast-international-show-preparation/2025-09-22
LOCATION:The Other Side\, 2011 Genesee St\, Utica\, New York\, 13501
CATEGORIES:Community Event,Private Event
END:VEVENT
BEGIN:VEVENT
DTSTART;TZID=America/New_York:20250924T183000
DTEND;TZID=America/New_York:20250924T210000
DTSTAMP:20260422T132131
CREATED:20250706T112418Z
LAST-MODIFIED:20250706T112817Z
UID:10003101-1758738600-1758747600@theothersideutica.org
SUMMARY:Outcast International Show Preparation
DESCRIPTION:
URL:https://theothersideutica.org/event/outcast-international-show-preparation/2025-09-24
LOCATION:The Other Side\, 2011 Genesee St\, Utica\, New York\, 13501
CATEGORIES:Community Event,Private Event
END:VEVENT
BEGIN:VEVENT
DTSTART;TZID=America/New_York:20250925T120000
DTEND;TZID=America/New_York:20250925T140000
DTSTAMP:20260422T132131
CREATED:20250819T012324Z
LAST-MODIFIED:20250819T012324Z
UID:10003491-1758801600-1758808800@theothersideutica.org
SUMMARY:Correspondence - Gallery Hours
DESCRIPTION:September 12 – October 4 \nOpening Reception\, Friday September 12\, 5-7pm \nArtist Talk: Saturday\, October 4\, 1pm \nGallery Hours: Thursdays and Saturdays 12-2pm
URL:https://theothersideutica.org/event/correspondence-gallery-hours/2025-09-25
LOCATION:The Other Side\, 2011 Genesee St\, Utica\, New York\, 13501
CATEGORIES:Art Gallery
ATTACH;FMTTYPE=image/jpeg:https://theothersideutica.org/wp-content/uploads/2025/08/Mona_Gina-posterpic-edited.jpg
END:VEVENT
BEGIN:VEVENT
DTSTART;TZID=America/New_York:20250925T183000
DTEND;TZID=America/New_York:20250925T210000
DTSTAMP:20260422T132131
CREATED:20250706T112418Z
LAST-MODIFIED:20250706T112817Z
UID:10003102-1758825000-1758834000@theothersideutica.org
SUMMARY:Outcast International Show Preparation
DESCRIPTION:
URL:https://theothersideutica.org/event/outcast-international-show-preparation/2025-09-25
LOCATION:The Other Side\, 2011 Genesee St\, Utica\, New York\, 13501
CATEGORIES:Community Event,Private Event
END:VEVENT
BEGIN:VEVENT
DTSTART;TZID=America/New_York:20250927T120000
DTEND;TZID=America/New_York:20250927T140000
DTSTAMP:20260422T132131
CREATED:20250819T012324Z
LAST-MODIFIED:20250819T012324Z
UID:10003492-1758974400-1758981600@theothersideutica.org
SUMMARY:Correspondence - Gallery Hours
DESCRIPTION:September 12 – October 4 \nOpening Reception\, Friday September 12\, 5-7pm \nArtist Talk: Saturday\, October 4\, 1pm \nGallery Hours: Thursdays and Saturdays 12-2pm
URL:https://theothersideutica.org/event/correspondence-gallery-hours/2025-09-27
LOCATION:The Other Side\, 2011 Genesee St\, Utica\, New York\, 13501
CATEGORIES:Art Gallery
ATTACH;FMTTYPE=image/jpeg:https://theothersideutica.org/wp-content/uploads/2025/08/Mona_Gina-posterpic-edited.jpg
END:VEVENT
BEGIN:VEVENT
DTSTART;TZID=America/New_York:20250929T183000
DTEND;TZID=America/New_York:20250929T210000
DTSTAMP:20260422T132131
CREATED:20250706T112418Z
LAST-MODIFIED:20250706T112817Z
UID:10003103-1759170600-1759179600@theothersideutica.org
SUMMARY:Outcast International Show Preparation
DESCRIPTION:
URL:https://theothersideutica.org/event/outcast-international-show-preparation/2025-09-29
LOCATION:The Other Side\, 2011 Genesee St\, Utica\, New York\, 13501
CATEGORIES:Community Event,Private Event
END:VEVENT
BEGIN:VEVENT
DTSTART;TZID=America/New_York:20250930T183000
DTEND;TZID=America/New_York:20250930T210000
DTSTAMP:20260422T132131
CREATED:20250706T112418Z
LAST-MODIFIED:20250706T112817Z
UID:10003104-1759257000-1759266000@theothersideutica.org
SUMMARY:Outcast International Show Preparation
DESCRIPTION:
URL:https://theothersideutica.org/event/outcast-international-show-preparation/2025-09-30
LOCATION:The Other Side\, 2011 Genesee St\, Utica\, New York\, 13501
CATEGORIES:Community Event,Private Event
END:VEVENT
END:VCALENDAR