BEGIN:VCALENDAR
VERSION:2.0
PRODID:-//The Other Side - ECPv6.6.3//NONSGML v1.0//EN
CALSCALE:GREGORIAN
METHOD:PUBLISH
X-ORIGINAL-URL:https://theothersideutica.org
X-WR-CALDESC:Events for The Other Side
REFRESH-INTERVAL;VALUE=DURATION:PT1H
X-Robots-Tag:noindex
X-PUBLISHED-TTL:PT1H
BEGIN:VTIMEZONE
TZID:America/New_York
BEGIN:DAYLIGHT
TZOFFSETFROM:-0500
TZOFFSETTO:-0400
TZNAME:EDT
DTSTART:20250309T070000
END:DAYLIGHT
BEGIN:STANDARD
TZOFFSETFROM:-0400
TZOFFSETTO:-0500
TZNAME:EST
DTSTART:20251102T060000
END:STANDARD
END:VTIMEZONE
BEGIN:VEVENT
DTSTART;TZID=America/New_York:20250801T190000
DTEND;TZID=America/New_York:20250801T210000
DTSTAMP:20260422T150321
CREATED:20250707T012203Z
LAST-MODIFIED:20250708T100446Z
UID:10003116-1754074800-1754082000@theothersideutica.org
SUMMARY:The Theater at Woodshill Presents - Macbeth
DESCRIPTION:“Macbeth is an uncanny unity of setting\, plot\, and characters\, fused together beyond comparison with any other play of Shakespeare’s.”  \n-Harold Bloom \nOver four hundred years since its original staging\, The Tragedy of Macbeth remains one of the world’s most alluring and enduring pieces of dramatic theater—and\, as Shakespeare’s shortest tragic work\, it remains an unrivaled and unflinching exploration of ambition\, power\, and fate. Its timeless themes continue to resonate with modern audiences\, delving deep into the complexities of the human psyche and the dark consequences of unchecked desire. \nFor The Theater at Woodshill’s ninth season\, Macbeth is the “perfectest” choice\, a culmination of our previous excursions into Shakespeare’s tragic art\, including Hamlet (2019) and Romeo and Juliet (2023).  Its genre-defining moral conflict and utter poetic beauty poignantly aligns with our company’s dedication to classic\, thought-provoking theater. As a company that prides itself on fostering an intimate connection between audience and text\, performing in a thrust-style theater\, Woodshill provides an ideal environment for Macbeth’s haunting atmosphere. The blend of Shakespeare’s profound insights into the depths of human nature along Woodshill’s commitment to theatrical excellence promises a summer of gripping drama\, rooted in the eternal relevance of the Bard’s most haunting work. \nTickets: Here (Please note this event is not occurring at The Other Side) \nSupport: Here \nThanks\, as ever\, to our great\, good friends at THE OTHER SIDE.
URL:https://theothersideutica.org/event/the-theater-at-woodshill-presents-macbeth/2025-08-01
LOCATION:The Other Side\, 2011 Genesee St\, Utica\, New York\, 13501
CATEGORIES:Community Event
ATTACH;FMTTYPE=image/jpeg:https://theothersideutica.org/wp-content/uploads/2025/07/IMG_74110-edited2.jpg
END:VEVENT
BEGIN:VEVENT
DTSTART;TZID=America/New_York:20250802T190000
DTEND;TZID=America/New_York:20250802T210000
DTSTAMP:20260422T150321
CREATED:20250707T012203Z
LAST-MODIFIED:20250708T100446Z
UID:10003117-1754161200-1754168400@theothersideutica.org
SUMMARY:The Theater at Woodshill Presents - Macbeth
DESCRIPTION:“Macbeth is an uncanny unity of setting\, plot\, and characters\, fused together beyond comparison with any other play of Shakespeare’s.”  \n-Harold Bloom \nOver four hundred years since its original staging\, The Tragedy of Macbeth remains one of the world’s most alluring and enduring pieces of dramatic theater—and\, as Shakespeare’s shortest tragic work\, it remains an unrivaled and unflinching exploration of ambition\, power\, and fate. Its timeless themes continue to resonate with modern audiences\, delving deep into the complexities of the human psyche and the dark consequences of unchecked desire. \nFor The Theater at Woodshill’s ninth season\, Macbeth is the “perfectest” choice\, a culmination of our previous excursions into Shakespeare’s tragic art\, including Hamlet (2019) and Romeo and Juliet (2023).  Its genre-defining moral conflict and utter poetic beauty poignantly aligns with our company’s dedication to classic\, thought-provoking theater. As a company that prides itself on fostering an intimate connection between audience and text\, performing in a thrust-style theater\, Woodshill provides an ideal environment for Macbeth’s haunting atmosphere. The blend of Shakespeare’s profound insights into the depths of human nature along Woodshill’s commitment to theatrical excellence promises a summer of gripping drama\, rooted in the eternal relevance of the Bard’s most haunting work. \nTickets: Here (Please note this event is not occurring at The Other Side) \nSupport: Here \nThanks\, as ever\, to our great\, good friends at THE OTHER SIDE.
URL:https://theothersideutica.org/event/the-theater-at-woodshill-presents-macbeth/2025-08-02
LOCATION:The Other Side\, 2011 Genesee St\, Utica\, New York\, 13501
CATEGORIES:Community Event
ATTACH;FMTTYPE=image/jpeg:https://theothersideutica.org/wp-content/uploads/2025/07/IMG_74110-edited2.jpg
END:VEVENT
BEGIN:VEVENT
DTSTART;TZID=America/New_York:20250812T183000
DTEND;TZID=America/New_York:20250812T200000
DTSTAMP:20260422T150321
CREATED:20250703T095202Z
LAST-MODIFIED:20250703T095202Z
UID:10003090-1755023400-1755028800@theothersideutica.org
SUMMARY:Big and Glassy Book Club
DESCRIPTION:The group has elected to read two books in sequence:\n\nthe first\, a short work of journalism/travel writing called The Message by Ta-Nehisi Coates in which he travels to Senegal\, South Carolina\, and Israel-Palestine. Published in 2024\, it should make for a highly relevant and deeply sickening read.\nThis meeting will take place at The Other Side of Utica (2011 Genesee St) at 6:30pm on Tuesday\, July 22th.\n\nFollowing The Message\, the group has also elected to go for a much longer read from one century earlier: Theodore Dreiser’s 1925 novel\, An American Tragedy. Based on the notorious murder of Grace Brown in the summer of 1906 at Big Moose Lake in the Adirondacks\, the novel should make for a more personal read. The book is around 800 pages\, so I am informing you now so you can play the early bird and get at that sweet\, sweet worm.\nIf all goes well\, this meeting will take place at The Other Side at 6:30pm on Tuesday\, August 12th.\n\nAs always\, a potluck dinner seems to make for a more comfortable experience\, so please feel free to bring something to share.
URL:https://theothersideutica.org/event/big-and-glassy-book-club-9/2025-08-12
LOCATION:The Other Side\, 2011 Genesee St\, Utica\, New York\, 13501
CATEGORIES:Community Event
ATTACH;FMTTYPE=image/jpeg:https://theothersideutica.org/wp-content/uploads/2025/01/Big_and_Glassy_Book_Club_Logo-00.jpg
END:VEVENT
BEGIN:VEVENT
DTSTART;TZID=America/New_York:20250825T183000
DTEND;TZID=America/New_York:20250825T210000
DTSTAMP:20260422T150321
CREATED:20250706T112418Z
LAST-MODIFIED:20250706T112817Z
UID:10003092-1756146600-1756155600@theothersideutica.org
SUMMARY:Outcast International Show Preparation
DESCRIPTION:
URL:https://theothersideutica.org/event/outcast-international-show-preparation/2025-08-25
LOCATION:The Other Side\, 2011 Genesee St\, Utica\, New York\, 13501
CATEGORIES:Community Event,Private Event
END:VEVENT
BEGIN:VEVENT
DTSTART;TZID=America/New_York:20250828T183000
DTEND;TZID=America/New_York:20250828T210000
DTSTAMP:20260422T150321
CREATED:20250706T112418Z
LAST-MODIFIED:20250706T112817Z
UID:10003093-1756405800-1756414800@theothersideutica.org
SUMMARY:Outcast International Show Preparation
DESCRIPTION:
URL:https://theothersideutica.org/event/outcast-international-show-preparation/2025-08-28
LOCATION:The Other Side\, 2011 Genesee St\, Utica\, New York\, 13501
CATEGORIES:Community Event,Private Event
END:VEVENT
END:VCALENDAR