BEGIN:VCALENDAR
VERSION:2.0
PRODID:-//The Other Side - ECPv6.6.3//NONSGML v1.0//EN
CALSCALE:GREGORIAN
METHOD:PUBLISH
X-WR-CALNAME:The Other Side
X-ORIGINAL-URL:https://theothersideutica.org
X-WR-CALDESC:Events for The Other Side
REFRESH-INTERVAL;VALUE=DURATION:PT1H
X-Robots-Tag:noindex
X-PUBLISHED-TTL:PT1H
BEGIN:VTIMEZONE
TZID:America/New_York
BEGIN:DAYLIGHT
TZOFFSETFROM:-0500
TZOFFSETTO:-0400
TZNAME:EDT
DTSTART:20260308T070000
END:DAYLIGHT
BEGIN:STANDARD
TZOFFSETFROM:-0400
TZOFFSETTO:-0500
TZNAME:EST
DTSTART:20261101T060000
END:STANDARD
END:VTIMEZONE
BEGIN:VEVENT
DTSTART;TZID=America/New_York:20260311T190000
DTEND;TZID=America/New_York:20260311T203000
DTSTAMP:20260425T104224
CREATED:20260126T221704Z
LAST-MODIFIED:20260220T232656Z
UID:10003717-1773255600-1773261000@theothersideutica.org
SUMMARY:The Psychology of Making and Keeping Friends - Hamilton at The Other Side
DESCRIPTION:What can psychology teach us about forming new and lasting friendships? Join us for a presentation on the science of social connections. Whether you’re reflecting on maintaining established friendships or navigating new ones\, Keelah Williams\, J.D.\, Ph.D. will offer insights into the complex psychology underlying some of our most important relationships. \nFree and Open to the Public – Donations Welcome
URL:https://theothersideutica.org/event/the-psychology-of-making-and-keeping-friends-hamilton-at-the-other-side
LOCATION:The Other Side\, 2011 Genesee St\, Utica\, New York\, 13501
CATEGORIES:Hamilton College Lecture Series
ATTACH;FMTTYPE=image/jpeg:https://theothersideutica.org/wp-content/uploads/2026/01/2026-03-11_Hamilton_Poster-00-square.jpg
END:VEVENT
END:VCALENDAR