BEGIN:VCALENDAR
VERSION:2.0
PRODID:-//The Other Side - ECPv6.6.3//NONSGML v1.0//EN
CALSCALE:GREGORIAN
METHOD:PUBLISH
X-WR-CALNAME:The Other Side
X-ORIGINAL-URL:https://theothersideutica.org
X-WR-CALDESC:Events for The Other Side
REFRESH-INTERVAL;VALUE=DURATION:PT1H
X-Robots-Tag:noindex
X-PUBLISHED-TTL:PT1H
BEGIN:VTIMEZONE
TZID:America/New_York
BEGIN:DAYLIGHT
TZOFFSETFROM:-0500
TZOFFSETTO:-0400
TZNAME:EDT
DTSTART:20260308T070000
END:DAYLIGHT
BEGIN:STANDARD
TZOFFSETFROM:-0400
TZOFFSETTO:-0500
TZNAME:EST
DTSTART:20261101T060000
END:STANDARD
END:VTIMEZONE
BEGIN:VEVENT
DTSTART;TZID=America/New_York:20260218T190000
DTEND;TZID=America/New_York:20260218T210000
DTSTAMP:20260425T123217
CREATED:20260126T222204Z
LAST-MODIFIED:20260129T163436Z
UID:10003718-1771441200-1771448400@theothersideutica.org
SUMMARY:The Oneida Community: Free Lovers or Public Menace?
DESCRIPTION:The Carl A. Rubino Hamilton at The Other Side Series presents: \nThe Oneida Community: Free Lovers or Public Menace? \nwith Christian Goodwillie – Director and Curator of Special Collections and Archives \nFrom 1848-1880\, the Oneida Community (OC)\, 20 miles west of Utica\, practiced a unique system of complex marriage\,\nthat eventually included a planned breeding process. Their practices drew outrage from a Hamilton College professor\, who\nbegan a campaign to shut OC down. The OC’s public image was further tarnished by the assassination of president James\nGarfield in 1881 by former OC member Charles Guiteau\, events depicted in the 2025 Netflix series Death by Lightning. Goodwillie will talk about the origins\, history\, social and sexual practices of this famous experiment and make some corrections to the Netflix depiction! \nFree and Open to the Public — Donations Welcome
URL:https://theothersideutica.org/event/hamilton-at-the-other-side-3
LOCATION:The Other Side\, 2011 Genesee St\, Utica\, New York\, 13501
CATEGORIES:Hamilton College Lecture Series
ATTACH;FMTTYPE=image/jpeg:https://theothersideutica.org/wp-content/uploads/2026/01/2026-02-18Goodwillie-OC-Other-Side-poster-square.jpg
END:VEVENT
END:VCALENDAR